BEGIN:VCALENDAR
VERSION:2.0
PRODID:-//wp-events-plugin.com//6.6.1//EN
TZID:Europe/Paris
X-WR-TIMEZONE:Europe/Paris
BEGIN:VEVENT
UID:224@histoiresmaritimes.art
DTSTART;TZID=Europe/Paris:20260523T100000
DTEND;TZID=Europe/Paris:20260523T180000
DTSTAMP:20260420T100905Z
URL:https://histoiresmaritimes.art/events/agenda-2026/
SUMMARY:Ouverture du Container 2026
DESCRIPTION:\nLe container artistique\, Maritimes\, installation vidéo et 
 littéraire de l'artiste Olivier Crouzel et de l'autrice Sophie Poirier\, 
 invite le public à voyager dans les paysages d’eau du territoire de l'e
 stuaire à travers un ensemble de films courts tournés ici et un peu aill
 eurs… Installé depuis mars 2026 au parc ornithologique Terres d'oiseau
 x à Braud-et-Saint-Louis\, dans la Communauté de communes de l'Estuaire.
  On peut y regarder librement par les hublots le film qui retrace le "Voya
 ge dans les paysages d'eau de l'estuaire". Dans l'agenda\, retrouvez les r
 dv où le container est ouvert complètement. Le 23 : Venez voir le film e
 t rencontrer les artistes\, le Smiddest\, toute la journée au Container 
 à Terres d'oiseaux (Port des Callonges) \n\n\n\n\n\n\n\nInspirée des li
 eux\, des mouvements\, des rencontres\, de la météo et des cycles nature
 ls\, cette évocation artistique de l'estuaire mêle les films contemplati
 fs d'Olivier Crouzel et les récits poétiques de Sophie Poirier. Projeté
  à bord perdu au fond du container et visible depuis des hublots\, l'inst
 allation évoque un instrument d'observation et donne un cadre aux paysage
 s\, propice à la découverte de ce qui nous entoure. C'est aussi un point
  de rendez-vous pour des rencontres\, des actions de médiation et de réf
 lexion autour des paysages de l'estuaire\, menées par le  SMIDDEST et à
  l’association NousAutres.\n\n\n\nLe SMIDDEST\, Syndicat Mixte pour le 
 Développement Durable de l’Estuaire de la Gironde oeuvre pour l’ensem
 ble des sujets touchant à l’aménagement\, au développement\, ainsi qu
 ’à la préservation de l’Estuaire. Il porte le projet Maritimes - Est
 uaire de la Gironde. Au fils des ans\, le Container artistique voyage sur 
 les deux rives de l'Estuaire.\nAu fil des années\, le Container Maritimes
  et son contenu artistique va d’une rive à l’autre sur l’ensemble d
 e l'estuaire de la Gironde et relie entre eux les paysages. Après Bassens
 \, le Grand Port Maritimes de Bordeaux\, Mortagne-sur-Gironde sur la rive 
 charentaise\, le Phare de Richard sur la rive médocaine de l'estuaire\, a
 u centre de Bourg\, le Container artistique Maritimes est pour la saison 2
 026 à Braud et Saint-Louis\, au Port des Callonges.\n\n\n\n\n\n\nEn savoi
 r plus\n\n\n\n&gt\; Résidence de création\, Phare de Richard\, rive méd
 ocaine &gt\; Résidence de création\, côte Charentaise &gt\; Projet Mari
 times &gt\; Container &gt\; Intervenants \n\n
ATTACH;FMTTYPE=image/jpeg:https://histoiresmaritimes.art/wp-content/upload
 s/2026/04/IMG_8797-scaled.jpg
END:VEVENT
BEGIN:VTIMEZONE
TZID:Europe/Paris
X-LIC-LOCATION:Europe/Paris
BEGIN:DAYLIGHT
DTSTART:20260329T030000
TZOFFSETFROM:+0100
TZOFFSETTO:+0200
TZNAME:CEST
END:DAYLIGHT
END:VTIMEZONE
END:VCALENDAR