BEGIN:VCALENDAR
VERSION:2.0
PRODID:-//wp-events-plugin.com//6.6.1//EN
TZID:Europe/Paris
X-WR-TIMEZONE:Europe/Paris
BEGIN:VEVENT
UID:215@histoiresmaritimes.art
DTSTART;TZID=Europe/Paris:20250704T223000
DTEND;TZID=Europe/Paris:20250704T230000
DTSTAMP:20250616T072726Z
URL:https://histoiresmaritimes.art/events/bourg-sur-gironde/
SUMMARY:Nocturne à Bourg
DESCRIPTION:Projection nocturne en plein air des films réalisés le long d
 e l'estuaire\, d'une rive l'autre : un temps fort le 4 juillet pour annonc
 er l'installation du container à Bourg sur Gironde.\nLa projection commen
 cera à la nuit tombée\, à 22h30.\nAvant\, le container sera inauguré a
 utour d'un verre à  20h30.\n\nLe projet Maritimes : Voyage dans les pays
 ages d'eaux de l'estuaire de la Gironde poursuit son aventure. Le containe
 r artistique a quitté la rive de l'Estuaire au Phare de Richard pour s'in
 staller sur la commune de Bourg-sur-Gironde\, au sein de la communauté de
  communes du Grand Cubzaguais\, du 20 juin au 5 novembre.\n\nPhoto : proje
 ction du film des Paysages de l'estuaire à Mortagne sur Gironde\, sur le 
 container et le paysage autour\, événement du 21 septembre 2024.
ATTACH;FMTTYPE=image/jpeg:https://histoiresmaritimes.art/wp-content/upload
 s/2025/06/460720816_18049603135915717_6306585753228047261_n.jpg
LOCATION:Place de l'éperon\, Bourg sur gironde\, Place de l'éperon \, Bou
 rg\, Gironde\, France
X-APPLE-STRUCTURED-LOCATION;VALUE=URI;X-ADDRESS=Place de l'éperon \, Bourg
 \, Gironde\, France;X-APPLE-RADIUS=100;X-TITLE=Place de l'éperon\, Bourg 
 sur gironde:geo:0,0
END:VEVENT
BEGIN:VTIMEZONE
TZID:Europe/Paris
X-LIC-LOCATION:Europe/Paris
BEGIN:DAYLIGHT
DTSTART:20250330T030000
TZOFFSETFROM:+0100
TZOFFSETTO:+0200
TZNAME:CEST
END:DAYLIGHT
END:VTIMEZONE
END:VCALENDAR