BEGIN:VCALENDAR
VERSION:2.0
PRODID:-//wp-events-plugin.com//6.6.1//EN
TZID:Europe/Paris
X-WR-TIMEZONE:Europe/Paris
BEGIN:VEVENT
UID:218@histoiresmaritimes.art
DTSTART;TZID=Europe/Paris:20250704T100000
DTEND;TZID=Europe/Paris:20251105T230000
DTSTAMP:20250616T072615Z
URL:https://histoiresmaritimes.art/events/films-des-rives-de-la-dordogne/
SUMMARY:Films des rives de la Dordogne
DESCRIPTION:Le projet Maritimes : Voyage dans les paysages d'eaux de l'estu
 aire de la Gironde poursuit son aventure.\nLe container artistique a quitt
 é la rive de l'Estuaire au Phare de Richard pour s'installer sur la commu
 ne de Bourg-sur-Gironde\, au sein de la communauté de communes du Grand C
 ubzaguais\, du 20 juin au 5 novembre.\nÀ l'intérieur des films courts di
 ffusés de 11h à 23 heures\, à regarder librement par les hublots\, ou l
 ors de rendez-vous à l'intérieur ou les portes ouvertes.\nInfos complém
 entaires et agenda à retrouver à l'Office du tourisme de Bourg sur Giron
 de.\n\n[caption id="attachment_1988" align="alignnone" width="300"] Contai
 ner en situation : portes ouvertes[/caption]\n\n[caption id="attachment_20
 05" align="alignnone" width="300"] Container en situation : Pour voir par 
 le hublot[/caption]\n\n&nbsp\;\n\n&nbsp\;
ATTACH;FMTTYPE=image/jpeg:https://histoiresmaritimes.art/wp-content/upload
 s/2025/06/Maritimes-Container-Phare-de-Richard-0074.jpg
LOCATION:Place de l'éperon\, Bourg sur gironde\, Place de l'éperon \, Bou
 rg\, Gironde\, France
X-APPLE-STRUCTURED-LOCATION;VALUE=URI;X-ADDRESS=Place de l'éperon \, Bourg
 \, Gironde\, France;X-APPLE-RADIUS=100;X-TITLE=Place de l'éperon\, Bourg 
 sur gironde:geo:0,0
END:VEVENT
BEGIN:VTIMEZONE
TZID:Europe/Paris
X-LIC-LOCATION:Europe/Paris
BEGIN:DAYLIGHT
DTSTART:20250330T030000
TZOFFSETFROM:+0100
TZOFFSETTO:+0200
TZNAME:CEST
END:DAYLIGHT
BEGIN:STANDARD
DTSTART:20251026T020000
TZOFFSETFROM:+0200
TZOFFSETTO:+0100
TZNAME:CET
END:STANDARD
END:VTIMEZONE
END:VCALENDAR