BEGIN:VCALENDAR
VERSION:2.0
PRODID:-//wp-events-plugin.com//6.6.1//EN
TZID:Europe/Paris
X-WR-TIMEZONE:Europe/Paris
BEGIN:VEVENT
UID:216@histoiresmaritimes.art
DTSTART;TZID=Europe/Paris:20250919T204500
DTEND;TZID=Europe/Paris:20250919T211500
DTSTAMP:20250827T091159Z
URL:https://histoiresmaritimes.art/events/nocturne-a-bourg/
SUMMARY:Nocturne à Bourg
DESCRIPTION:Projection nocturne en plein air des films réalisés le long d
 e l'estuaire\, d'une rive l'autre : un temps fort le 19 septembre.\nLa pro
 jection commencera à la nuit tombée\, à 20h45.\n\nLe projet Maritimes :
  Voyage dans les paysages d'eaux de l'estuaire de la Gironde poursuit son 
 aventure. Le container artistique a quitté la rive de l'Estuaire au Phare
  de Richard pour s'installer sur la commune de Bourg-sur-Gironde\, au sein
  de la communauté de communes du Grand Cubzaguais\, du 20 juin au 5 novem
 bre.\n\nPhoto : projection du film des Paysages de l'estuaire à Mortagne 
 sur Gironde\, sur le container et le paysage autour\, événement du 21 se
 ptembre 2024.
ATTACH;FMTTYPE=image/jpeg:https://histoiresmaritimes.art/wp-content/upload
 s/2025/07/Maritimes-bourg-filet-@oliviercrouzel-Bd-.jpg
LOCATION:Place de l'éperon\, Bourg sur gironde\, Place de l'éperon \, Bou
 rg\, Gironde\, France
X-APPLE-STRUCTURED-LOCATION;VALUE=URI;X-ADDRESS=Place de l'éperon \, Bourg
 \, Gironde\, France;X-APPLE-RADIUS=100;X-TITLE=Place de l'éperon\, Bourg 
 sur gironde:geo:0,0
END:VEVENT
BEGIN:VTIMEZONE
TZID:Europe/Paris
X-LIC-LOCATION:Europe/Paris
BEGIN:DAYLIGHT
DTSTART:20250330T030000
TZOFFSETFROM:+0100
TZOFFSETTO:+0200
TZNAME:CEST
END:DAYLIGHT
END:VTIMEZONE
END:VCALENDAR