BEGIN:VCALENDAR
VERSION:2.0
PRODID:-//wp-events-plugin.com//6.6.1//EN
TZID:Europe/Paris
X-WR-TIMEZONE:Europe/Paris
BEGIN:VEVENT
UID:213@histoiresmaritimes.art
DTSTART;TZID=Europe/Paris:20250417T140000
DTEND;TZID=Europe/Paris:20250417T173000
DTSTAMP:20250228T101317Z
URL:https://histoiresmaritimes.art/events/portes-ouvertes-du-container/
SUMMARY:Portes ouvertes du container et Balade en vélo
DESCRIPTION:\nJeudi 17 avril de 14h à 17h30 : Ouverture des portes du cont
 ainer et découverte du film de Sophie Poirier et Olivier Crouzel. Mise en
  débat et immersion dans les paysages alentours lors d’une balade à v
 élo avec les animateurs du Smiddest et du Parc naturel régional Médoc.\
 n\n\n\n« Voyage dans les paysages d’eaux de l’estuaire de la Gironde 
 »\, de l’artiste Olivier Crouzel et de l’autrice Sophie Poirier invit
 e le public à voyager dans les paysages d’eau du territoire à travers 
 un ensemble de films courts tournés sur les communes de Talais\, Jau-Dign
 ac-et-Loirac\, Valeyrac\, Saint-Vivien\, sur les rives de l’estuaire\, l
 es marais du Médoc\, et un peu ailleurs…\n\n\n\n&gt\; Inscription aupr
 ès du Parc naturel régional Médoc au 05 57 75 18 99 ou à info@pnr-medo
 c.fr\n\n toutes les dates et les animations
ATTACH;FMTTYPE=image/jpeg:https://histoiresmaritimes.art/wp-content/upload
 s/2025/01/Maritimes-Phare-de-richard-5026.jpg
LOCATION:Phare de Richard\, Jau-Dignac-Et-Loirac\, Aquitaine\, France\, Jau
 -Dignac-Et-Loirac\, France
X-APPLE-STRUCTURED-LOCATION;VALUE=URI;X-ADDRESS=Jau-Dignac-Et-Loirac\, Aqui
 taine\, France\, Jau-Dignac-Et-Loirac\, France;X-APPLE-RADIUS=100;X-TITLE=
 Phare de Richard:geo:0,0
END:VEVENT
BEGIN:VTIMEZONE
TZID:Europe/Paris
X-LIC-LOCATION:Europe/Paris
BEGIN:DAYLIGHT
DTSTART:20250330T030000
TZOFFSETFROM:+0100
TZOFFSETTO:+0200
TZNAME:CEST
END:DAYLIGHT
END:VTIMEZONE
END:VCALENDAR