BEGIN:VCALENDAR
VERSION:2.0
PRODID:-//wp-events-plugin.com//6.6.1//EN
TZID:Europe/Paris
X-WR-TIMEZONE:Europe/Paris
BEGIN:VEVENT
UID:214@histoiresmaritimes.art
DTSTART;TZID=Europe/Paris:20250502T170000
DTEND;TZID=Europe/Paris:20250502T190000
DTSTAMP:20250228T102644Z
URL:https://histoiresmaritimes.art/events/projection-sur-le-phare/
SUMMARY:Projection sur le phare
DESCRIPTION:Vendredi 2 mai : « Voyage dans les paysages d’eaux de l’es
 tuaire de la Gironde »\, de l'artiste Olivier Crouzel et de l’autrice S
 ophie Poirier invite le public à voyager dans les paysages d’eau du ter
 ritoire à travers un ensemble de films courts tournés sur les communes d
 e Talais\, Jau-Dignac-et-Loirac\, Valeyrac\, Saint-Vivien\, sur les rives 
 de l’estuaire\, les marais du Médoc\, et un peu ailleurs…\n\n\nAu pro
 gramme\, projection monumentale sur le phare de Richard du film de Sophie 
 Poirier et Olivier Crouzel réalisé dans le Médoc et ouverture des porte
 s du container artistique.\n\n\n17h : portes ouvertes du container à part
 ir de 14h en présence des artistes\, du Smiddest\, et du médiateur\n19h4
 5 : Projections sur le phare à la tombée de la nuit\n&gt\; Lieu : Phare 
 de Richard\, Jau-Dignac-et-Loirac\n\n
ATTACH;FMTTYPE=image/jpeg:https://histoiresmaritimes.art/wp-content/upload
 s/2025/01/Phare-de-richard-Projection-7950.jpg
LOCATION:Phare de Richard\, Jau-Dignac-Et-Loirac\, Aquitaine\, France\, Jau
 -Dignac-Et-Loirac\, France
X-APPLE-STRUCTURED-LOCATION;VALUE=URI;X-ADDRESS=Jau-Dignac-Et-Loirac\, Aqui
 taine\, France\, Jau-Dignac-Et-Loirac\, France;X-APPLE-RADIUS=100;X-TITLE=
 Phare de Richard:geo:0,0
END:VEVENT
BEGIN:VTIMEZONE
TZID:Europe/Paris
X-LIC-LOCATION:Europe/Paris
BEGIN:DAYLIGHT
DTSTART:20250330T030000
TZOFFSETFROM:+0100
TZOFFSETTO:+0200
TZNAME:CEST
END:DAYLIGHT
END:VTIMEZONE
END:VCALENDAR