BEGIN:VCALENDAR
VERSION:2.0
PRODID:-//wp-events-plugin.com//6.6.1//EN
TZID:Europe/Paris
X-WR-TIMEZONE:Europe/Paris
BEGIN:VEVENT
UID:223@histoiresmaritimes.art
DTSTART;TZID=Europe/Paris:20250829T100000
DTEND;TZID=Europe/Paris:20250829T180000
DTSTAMP:20250623T190716Z
URL:https://histoiresmaritimes.art/events/rdv-portes-ouvertes-4/
SUMMARY:RDV PORTES OUVERTES
DESCRIPTION:Voir les films à l'intérieur du Container\, les portes ouvert
 es.\nLors de rendez-vous proposés par l'Asso Nous Autres David De Souza.\
 nRdv à 10h et à 18h.\n\nGratuit\, sur réservation à l'office du Touris
 me.
ATTACH;FMTTYPE=image/jpeg:https://histoiresmaritimes.art/wp-content/upload
 s/2025/01/Maritimes-Phare-de-richard-5026.jpg
LOCATION:Place de l'éperon\, Bourg sur gironde\, Place de l'éperon \, Bou
 rg\, Gironde\, France
X-APPLE-STRUCTURED-LOCATION;VALUE=URI;X-ADDRESS=Place de l'éperon \, Bourg
 \, Gironde\, France;X-APPLE-RADIUS=100;X-TITLE=Place de l'éperon\, Bourg 
 sur gironde:geo:0,0
END:VEVENT
BEGIN:VTIMEZONE
TZID:Europe/Paris
X-LIC-LOCATION:Europe/Paris
BEGIN:DAYLIGHT
DTSTART:20250330T030000
TZOFFSETFROM:+0100
TZOFFSETTO:+0200
TZNAME:CEST
END:DAYLIGHT
END:VTIMEZONE
END:VCALENDAR