BEGIN:VCALENDAR
VERSION:2.0
PRODID:-//wp-events-plugin.com//6.6.1//EN
TZID:Europe/Paris
X-WR-TIMEZONE:Europe/Paris
BEGIN:VEVENT
UID:225@histoiresmaritimes.art
DTSTART;TZID=Europe/Paris:20260523T190000
DTEND;TZID=Europe/Paris:20260523T230000
DTSTAMP:20260420T100402Z
URL:https://histoiresmaritimes.art/events/soiree-projection-du-film-voyage
 -dans-les-paysages-deau-de-lestuaire/
SUMMARY:Soirée Projection du film "Voyage dans les paysages d'eau de l'est
 uaire"
DESCRIPTION:19h : Accueil public\n19h30 : Table ronde « Paysages de l’es
 tuaire » animée par le Smiddest\n21h15 : Intervention musicale et poéti
 que de H. Plandé et D. De Souza\n22 h : Projection en plein air du film V
 oyage dans les paysages  d’eaux de l’estuaire de la Gironde\, de Soph
 ie Poirier et Olivier Crouzel\n\nRepas sur place avec la ferme des prairie
 s de Pallard\nBuvette par QKF\nEntrée libre
ATTACH;FMTTYPE=image/jpeg:https://histoiresmaritimes.art/wp-content/upload
 s/2025/07/Maritimes-bourg-filet-bateau@oliviercrouzel-Bd-.jpg
END:VEVENT
BEGIN:VTIMEZONE
TZID:Europe/Paris
X-LIC-LOCATION:Europe/Paris
BEGIN:DAYLIGHT
DTSTART:20260329T030000
TZOFFSETFROM:+0100
TZOFFSETTO:+0200
TZNAME:CEST
END:DAYLIGHT
END:VTIMEZONE
END:VCALENDAR